BEGIN:VCALENDAR
VERSION:2.0
PRODID:-//NOXMON Institute - ECPv6.6.1//NONSGML v1.0//EN
CALSCALE:GREGORIAN
METHOD:PUBLISH
X-WR-CALNAME:NOXMON Institute
X-ORIGINAL-URL:https://noxmon.org
X-WR-CALDESC:Events for NOXMON Institute
REFRESH-INTERVAL;VALUE=DURATION:PT1H
X-Robots-Tag:noindex
X-PUBLISHED-TTL:PT1H
BEGIN:VTIMEZONE
TZID:UTC
BEGIN:STANDARD
TZOFFSETFROM:+0000
TZOFFSETTO:+0000
TZNAME:UTC
DTSTART:20210101T000000
END:STANDARD
END:VTIMEZONE
BEGIN:VEVENT
DTSTART;TZID=UTC:20210413T080000
DTEND;TZID=UTC:20210413T170000
DTSTAMP:20260425T155044
CREATED:20210412T074954Z
LAST-MODIFIED:20210412T075100Z
UID:27421-1618300800-1618333200@noxmon.org
SUMMARY:New Event with ZOOM
DESCRIPTION:
URL:https://noxmon.org/event/new-event-with-zoom/
LOCATION:California\, CA\, United States
END:VEVENT
BEGIN:VEVENT
DTSTART;TZID=UTC:20210412T080000
DTEND;TZID=UTC:20210413T170000
DTSTAMP:20260425T155044
CREATED:20210411T134141Z
LAST-MODIFIED:20210411T134141Z
UID:27319-1618214400-1618333200@noxmon.org
SUMMARY:Test Event
DESCRIPTION:This is test event
URL:https://noxmon.org/event/test-event/
LOCATION:California\, CA\, United States
CATEGORIES:Test
END:VEVENT
END:VCALENDAR